BEGIN:VCALENDAR
VERSION:2.0
PRODID:-//Wirral Motor Club | Car Meet at Port &amp; Anchor - ECPv6.0.12//NONSGML v1.0//EN
CALSCALE:GREGORIAN
METHOD:PUBLISH
X-WR-CALNAME:Wirral Motor Club | Car Meet at Port &amp; Anchor
X-ORIGINAL-URL:https://www.wirralmotorclub.co.uk
X-WR-CALDESC:Events for Wirral Motor Club | Car Meet at Port &amp; Anchor
REFRESH-INTERVAL;VALUE=DURATION:PT1H
X-Robots-Tag:noindex
X-PUBLISHED-TTL:PT1H
BEGIN:VTIMEZONE
TZID:UTC
BEGIN:STANDARD
TZOFFSETFROM:+0000
TZOFFSETTO:+0000
TZNAME:UTC
DTSTART:20240101T000000
END:STANDARD
END:VTIMEZONE
BEGIN:VEVENT
DTSTART;VALUE=DATE:20240225
DTEND;VALUE=DATE:20240226
DTSTAMP:20260422T202157
CREATED:20230426T105005Z
LAST-MODIFIED:20240203T163446Z
UID:627-1708819200-1708905599@www.wirralmotorclub.co.uk
SUMMARY:Alfie's Fundraiser
DESCRIPTION:
URL:https://www.wirralmotorclub.co.uk/event/alfies/
LOCATION:Fort Perch Rock\, ch45 2ju
ATTACH;FMTTYPE=image/png:https://www.wirralmotorclub.co.uk/wp-content/uploads/2023/04/Screenshot-2024-02-03-163404.png
END:VEVENT
END:VCALENDAR